BEGIN:VCALENDAR
VERSION:2.0
PRODID:-//Dianne&#039;s Vegan Kitchen - ECPv6.3.6//NONSGML v1.0//EN
CALSCALE:GREGORIAN
METHOD:PUBLISH
X-WR-CALNAME:Dianne&#039;s Vegan Kitchen
X-ORIGINAL-URL:https://www.diannesvegankitchen.com
X-WR-CALDESC:Events for Dianne&#039;s Vegan Kitchen
REFRESH-INTERVAL;VALUE=DURATION:PT1H
X-Robots-Tag:noindex
X-PUBLISHED-TTL:PT1H
BEGIN:VTIMEZONE
TZID:America/New_York
BEGIN:DAYLIGHT
TZOFFSETFROM:-0500
TZOFFSETTO:-0400
TZNAME:EDT
DTSTART:20210314T070000
END:DAYLIGHT
BEGIN:STANDARD
TZOFFSETFROM:-0400
TZOFFSETTO:-0500
TZNAME:EST
DTSTART:20211107T060000
END:STANDARD
END:VTIMEZONE
BEGIN:VEVENT
DTSTART;TZID=America/New_York:20210405T153000
DTEND;TZID=America/New_York:20210405T160000
DTSTAMP:20260425T231938
CREATED:20210309T222833Z
LAST-MODIFIED:20210309T222833Z
UID:30011-1617636600-1617638400@www.diannesvegankitchen.com
SUMMARY:LunchBreakLIVE with Jane Unchained News
DESCRIPTION:I'll be making one of my favorite dishes from The Big Book of Vegan Cooking on Jane Unchained's LunchBreakLIVE. More details coming soon.
URL:https://www.diannesvegankitchen.com/event/lunchbreaklive-with-jane-unchained-news/
CATEGORIES:Cooking Class
END:VEVENT
END:VCALENDAR